Package: occugene Version: 1.66.0 Command: /Library/Frameworks/R.framework/Resources/bin/R CMD build --keep-empty-dirs --no-resave-data occugene StartedAt: 2025-04-01 04:28:58 -0400 (Tue, 01 Apr 2025) EndedAt: 2025-04-01 04:29:07 -0400 (Tue, 01 Apr 2025) EllapsedTime: 9.1 seconds RetCode: 0 Status: OK PackageFile: occugene_1.66.0.tar.gz PackageFileSize: 194.5 KiB