Package: nullranges Version: 1.12.0 Command: /home/biocbuild/R/R/bin/R CMD build --keep-empty-dirs --no-resave-data nullranges StartedAt: 2025-04-01 01:14:04 -0000 (Tue, 01 Apr 2025) EndedAt: 2025-04-01 01:18:10 -0000 (Tue, 01 Apr 2025) EllapsedTime: 245.3 seconds RetCode: 0 Status: OK PackageFile: nullranges_1.12.0.tar.gz PackageFileSize: 4.458 MiB