Package: nullranges Version: 1.12.0 Command: /Library/Frameworks/R.framework/Resources/bin/R CMD check --install=check:nullranges.install-out.txt --library=/Library/Frameworks/R.framework/Resources/library --no-vignettes --timings nullranges_1.12.0.tar.gz StartedAt: 2025-04-01 06:35:27 -0400 (Tue, 01 Apr 2025) EndedAt: 2025-04-01 06:44:21 -0400 (Tue, 01 Apr 2025) EllapsedTime: 534.5 seconds RetCode: 0 Status: OK CheckDir: nullranges.Rcheck Warnings: 0