Package: nullranges Version: 1.12.0 Command: /Library/Frameworks/R.framework/Resources/bin/R CMD build --keep-empty-dirs --no-resave-data nullranges StartedAt: 2025-03-31 20:40:42 -0400 (Mon, 31 Mar 2025) EndedAt: 2025-03-31 20:45:33 -0400 (Mon, 31 Mar 2025) EllapsedTime: 290.6 seconds RetCode: 0 Status: OK PackageFile: nullranges_1.12.0.tar.gz PackageFileSize: 5.085 MiB