Package: nullranges Version: 1.12.0 Command: /Library/Frameworks/R.framework/Resources/bin/R CMD INSTALL nullranges StartedAt: 2025-03-31 15:55:39 -0400 (Mon, 31 Mar 2025) EndedAt: 2025-03-31 15:56:21 -0400 (Mon, 31 Mar 2025) EllapsedTime: 42.4 seconds RetCode: 0 Status: OK