Package: nullranges Version: 1.12.0 Command: /Library/Frameworks/R.framework/Resources/bin/R CMD build --keep-empty-dirs --no-resave-data nullranges StartedAt: 2025-04-01 04:28:17 -0400 (Tue, 01 Apr 2025) EndedAt: 2025-04-01 04:31:16 -0400 (Tue, 01 Apr 2025) EllapsedTime: 178.3 seconds RetCode: 0 Status: OK PackageFile: nullranges_1.12.0.tar.gz PackageFileSize: 5.086 MiB