Package: nucleoSim Version: 1.34.0 Command: /home/biocbuild/R/R/bin/R CMD check --install=check:nucleoSim.install-out.txt --library=/home/biocbuild/R/R/site-library --no-vignettes --timings nucleoSim_1.34.0.tar.gz StartedAt: 2025-04-01 09:01:21 -0000 (Tue, 01 Apr 2025) EndedAt: 2025-04-01 09:02:31 -0000 (Tue, 01 Apr 2025) EllapsedTime: 69.2 seconds RetCode: 0 Status: OK CheckDir: nucleoSim.Rcheck Warnings: 0