Package: nucleoSim Version: 1.34.0 Command: /Library/Frameworks/R.framework/Resources/bin/R CMD INSTALL nucleoSim StartedAt: 2025-03-31 15:10:51 -0400 (Mon, 31 Mar 2025) EndedAt: 2025-03-31 15:10:59 -0400 (Mon, 31 Mar 2025) EllapsedTime: 7.5 seconds RetCode: 0 Status: OK