Package: nucleoSim Version: 1.34.0 Command: /Library/Frameworks/R.framework/Resources/bin/R CMD build --keep-empty-dirs --no-resave-data nucleoSim StartedAt: 2025-04-01 04:27:42 -0400 (Tue, 01 Apr 2025) EndedAt: 2025-04-01 04:27:57 -0400 (Tue, 01 Apr 2025) EllapsedTime: 15.0 seconds RetCode: 0 Status: OK PackageFile: nucleoSim_1.34.0.tar.gz PackageFileSize: 463.6 KiB