Package: nucleR Version: 2.38.0 Command: /home/biocbuild/R/R/bin/R CMD check --install=check:nucleR.install-out.txt --library=/home/biocbuild/R/R/site-library --no-vignettes --timings nucleR_2.38.0.tar.gz StartedAt: 2025-04-01 09:01:23 -0000 (Tue, 01 Apr 2025) EndedAt: 2025-04-01 09:07:25 -0000 (Tue, 01 Apr 2025) EllapsedTime: 361.5 seconds RetCode: 0 Status: WARNINGS CheckDir: nucleR.Rcheck Warnings: 1