Package: nucleR Version: 2.38.0 Command: F:\biocbuild\bbs-3.20-bioc\R\bin\R.exe CMD INSTALL nucleR StartedAt: 2025-03-31 16:26:53 -0400 (Mon, 31 Mar 2025) EndedAt: 2025-03-31 16:27:46 -0400 (Mon, 31 Mar 2025) EllapsedTime: 52.9 seconds RetCode: 0 Status: OK