Package: nucleR Version: 2.38.0 Command: F:\biocbuild\bbs-3.20-bioc\R\bin\R.exe CMD check --no-multiarch --install=check:nucleR.install-out.txt --library=F:\biocbuild\bbs-3.20-bioc\R\library --no-vignettes --timings nucleR_2.38.0.tar.gz StartedAt: 2025-04-01 04:10:32 -0400 (Tue, 01 Apr 2025) EndedAt: 2025-04-01 04:16:03 -0400 (Tue, 01 Apr 2025) EllapsedTime: 331.8 seconds RetCode: 0 Status: WARNINGS CheckDir: nucleR.Rcheck Warnings: 1