Package: nucleR Version: 2.38.0 Command: rm -rf nucleR.buildbin-libdir && mkdir nucleR.buildbin-libdir && F:\biocbuild\bbs-3.20-bioc\R\bin\R.exe CMD INSTALL --build --library=nucleR.buildbin-libdir nucleR_2.38.0.tar.gz StartedAt: 2025-04-01 08:46:34 -0400 (Tue, 01 Apr 2025) EndedAt: 2025-04-01 08:47:35 -0400 (Tue, 01 Apr 2025) EllapsedTime: 60.5 seconds RetCode: 0 Status: OK PackageFile: nucleR_2.38.0.zip PackageFileSize: 1.289 MiB