Package: nucleR Version: 2.38.0 Command: /home/biocbuild/bbs-3.20-bioc/R/bin/R CMD build --keep-empty-dirs --no-resave-data --md5 nucleR StartedAt: 2025-03-31 18:21:00 -0400 (Mon, 31 Mar 2025) EndedAt: 2025-03-31 18:22:11 -0400 (Mon, 31 Mar 2025) EllapsedTime: 71.1 seconds RetCode: 0 Status: OK PackageFile: nucleR_2.38.0.tar.gz PackageFileSize: 1.802 MiB