Package: nucleR Version: 2.38.0 Command: /Library/Frameworks/R.framework/Resources/bin/R CMD INSTALL nucleR StartedAt: 2025-03-31 15:41:21 -0400 (Mon, 31 Mar 2025) EndedAt: 2025-03-31 15:42:36 -0400 (Mon, 31 Mar 2025) EllapsedTime: 74.9 seconds RetCode: 0 Status: OK