Package: nucleR Version: 2.38.0 Command: /Library/Frameworks/R.framework/Resources/bin/R CMD build --keep-empty-dirs --no-resave-data nucleR StartedAt: 2025-03-31 20:40:28 -0400 (Mon, 31 Mar 2025) EndedAt: 2025-03-31 20:43:32 -0400 (Mon, 31 Mar 2025) EllapsedTime: 184.3 seconds RetCode: 0 Status: OK PackageFile: nucleR_2.38.0.tar.gz PackageFileSize: 1.839 MiB