Package: nuCpos Version: 1.24.0 Command: chmod a+r nuCpos -R && F:\biocbuild\bbs-3.20-bioc\R\bin\R.exe CMD build --keep-empty-dirs --no-resave-data nuCpos StartedAt: 2025-03-31 20:39:32 -0400 (Mon, 31 Mar 2025) EndedAt: 2025-03-31 20:39:59 -0400 (Mon, 31 Mar 2025) EllapsedTime: 26.5 seconds RetCode: 0 Status: OK PackageFile: nuCpos_1.24.0.tar.gz PackageFileSize: 2.269 MiB