Package: normr Version: 1.32.0 Command: rm -rf normr.buildbin-libdir && mkdir normr.buildbin-libdir && /Users/biocbuild/BBS/utils/build-universal.sh normr_1.32.0.tar.gz /Library/Frameworks/R.framework/Resources/bin/R normr.buildbin-libdir StartedAt: 2025-04-02 15:28:55 -0400 (Wed, 02 Apr 2025) EndedAt: 2025-04-02 15:29:52 -0400 (Wed, 02 Apr 2025) EllapsedTime: 57.9 seconds RetCode: 0 Status: OK PackageFile: normr_1.32.0.tgz PackageFileSize: 4.198 MiB