Package: normalize450K Version: 1.34.0 Command: rm -rf normalize450K.buildbin-libdir && mkdir normalize450K.buildbin-libdir && F:\biocbuild\bbs-3.20-bioc\R\bin\R.exe CMD INSTALL --build --library=normalize450K.buildbin-libdir normalize450K_1.34.0.tar.gz StartedAt: 2025-04-01 08:46:04 -0400 (Tue, 01 Apr 2025) EndedAt: 2025-04-01 08:46:24 -0400 (Tue, 01 Apr 2025) EllapsedTime: 19.6 seconds RetCode: 0 Status: OK PackageFile: normalize450K_1.34.0.zip PackageFileSize: 3.057 MiB