Package: normalize450K Version: 1.34.0 Command: /home/biocbuild/bbs-3.20-bioc/R/bin/R CMD check --install=check:normalize450K.install-out.txt --library=/home/biocbuild/bbs-3.20-bioc/R/site-library --timings normalize450K_1.34.0.tar.gz StartedAt: 2025-04-01 00:30:49 -0400 (Tue, 01 Apr 2025) EndedAt: 2025-04-01 00:31:21 -0400 (Tue, 01 Apr 2025) EllapsedTime: 32.0 seconds RetCode: 0 Status: OK CheckDir: normalize450K.Rcheck Warnings: 0