Package: normalize450K Version: 1.34.0 Command: /Library/Frameworks/R.framework/Resources/bin/R CMD INSTALL normalize450K StartedAt: 2025-03-31 15:20:28 -0400 (Mon, 31 Mar 2025) EndedAt: 2025-03-31 15:20:57 -0400 (Mon, 31 Mar 2025) EllapsedTime: 29.1 seconds RetCode: 0 Status: OK