Package: normalize450K Version: 1.34.0 Command: /Library/Frameworks/R.framework/Resources/bin/R CMD build --keep-empty-dirs --no-resave-data normalize450K StartedAt: 2025-04-01 04:26:03 -0400 (Tue, 01 Apr 2025) EndedAt: 2025-04-01 04:26:38 -0400 (Tue, 01 Apr 2025) EllapsedTime: 35.6 seconds RetCode: 0 Status: OK PackageFile: normalize450K_1.34.0.tar.gz PackageFileSize: 3.137 MiB