Package: nondetects Version: 2.36.0 Command: /Library/Frameworks/R.framework/Resources/bin/R CMD check --install=check:nondetects.install-out.txt --library=/Library/Frameworks/R.framework/Resources/library --no-vignettes --timings nondetects_2.36.0.tar.gz StartedAt: 2025-04-01 06:31:41 -0400 (Tue, 01 Apr 2025) EndedAt: 2025-04-01 06:48:30 -0400 (Tue, 01 Apr 2025) EllapsedTime: 1008.8 seconds RetCode: 0 Status: OK CheckDir: nondetects.Rcheck Warnings: 0