Package: nnSVG Version: 1.10.3 Command: /home/biocbuild/R/R/bin/R CMD check --install=check:nnSVG.install-out.txt --library=/home/biocbuild/R/R/site-library --no-vignettes --timings nnSVG_1.10.3.tar.gz StartedAt: 2025-04-01 08:58:43 -0000 (Tue, 01 Apr 2025) EndedAt: 2025-04-01 09:07:21 -0000 (Tue, 01 Apr 2025) EllapsedTime: 517.8 seconds RetCode: 0 Status: OK CheckDir: nnSVG.Rcheck Warnings: 0