Package: nnSVG Version: 1.10.3 Command: /home/biocbuild/R/R/bin/R CMD build --keep-empty-dirs --no-resave-data nnSVG StartedAt: 2025-04-01 01:12:15 -0000 (Tue, 01 Apr 2025) EndedAt: 2025-04-01 01:19:30 -0000 (Tue, 01 Apr 2025) EllapsedTime: 434.6 seconds RetCode: 0 Status: OK PackageFile: nnSVG_1.10.3.tar.gz PackageFileSize: 815.8 KiB