Package: nnSVG Version: 1.10.3 Command: F:\biocbuild\bbs-3.20-bioc\R\bin\R.exe CMD INSTALL nnSVG StartedAt: 2025-03-31 16:05:22 -0400 (Mon, 31 Mar 2025) EndedAt: 2025-03-31 16:05:48 -0400 (Mon, 31 Mar 2025) EllapsedTime: 26.3 seconds RetCode: 0 Status: OK