Package: nnSVG Version: 1.10.3 Command: /home/biocbuild/bbs-3.20-bioc/R/bin/R CMD build --keep-empty-dirs --no-resave-data --md5 nnSVG StartedAt: 2025-03-31 18:19:34 -0400 (Mon, 31 Mar 2025) EndedAt: 2025-03-31 18:26:21 -0400 (Mon, 31 Mar 2025) EllapsedTime: 407.6 seconds RetCode: 0 Status: OK PackageFile: nnSVG_1.10.3.tar.gz PackageFileSize: 1.337 MiB