Package: nnSVG Version: 1.10.3 Command: /Library/Frameworks/R.framework/Resources/bin/R CMD INSTALL nnSVG StartedAt: 2025-03-31 15:27:37 -0400 (Mon, 31 Mar 2025) EndedAt: 2025-03-31 15:28:24 -0400 (Mon, 31 Mar 2025) EllapsedTime: 47.0 seconds RetCode: 0 Status: OK