Package: nnSVG Version: 1.10.3 Command: /Library/Frameworks/R.framework/Resources/bin/R CMD check --install=check:nnSVG.install-out.txt --library=/Library/Frameworks/R.framework/Resources/library --no-vignettes --timings nnSVG_1.10.3.tar.gz StartedAt: 2025-04-01 06:30:05 -0400 (Tue, 01 Apr 2025) EndedAt: 2025-04-01 06:42:43 -0400 (Tue, 01 Apr 2025) EllapsedTime: 757.7 seconds RetCode: 0 Status: OK CheckDir: nnSVG.Rcheck Warnings: 0