Package: nnSVG Version: 1.10.3 Command: /Library/Frameworks/R.framework/Resources/bin/R CMD build --keep-empty-dirs --no-resave-data nnSVG StartedAt: 2025-03-31 20:36:50 -0400 (Mon, 31 Mar 2025) EndedAt: 2025-03-31 20:48:05 -0400 (Mon, 31 Mar 2025) EllapsedTime: 674.8 seconds RetCode: 0 Status: OK PackageFile: nnSVG_1.10.3.tar.gz PackageFileSize: 1.516 MiB