Package: nnSVG Version: 1.10.3 Command: rm -rf nnSVG.buildbin-libdir && mkdir nnSVG.buildbin-libdir && /Users/biocbuild/BBS/utils/build-universal.sh nnSVG_1.10.3.tar.gz /Library/Frameworks/R.framework/Resources/bin/R nnSVG.buildbin-libdir StartedAt: 2025-04-01 12:22:28 -0400 (Tue, 01 Apr 2025) EndedAt: 2025-04-01 12:23:18 -0400 (Tue, 01 Apr 2025) EllapsedTime: 49.7 seconds RetCode: 0 Status: OK PackageFile: nnSVG_1.10.3.tgz PackageFileSize: 1.53 MiB