Package: nnNorm Version: 2.70.0 Command: F:\biocbuild\bbs-3.20-bioc\R\bin\R.exe CMD INSTALL nnNorm StartedAt: 2025-03-31 15:30:31 -0400 (Mon, 31 Mar 2025) EndedAt: 2025-03-31 15:30:39 -0400 (Mon, 31 Mar 2025) EllapsedTime: 7.7 seconds RetCode: 0 Status: OK