Package: nnNorm Version: 2.70.0 Command: /Library/Frameworks/R.framework/Resources/bin/R CMD build --keep-empty-dirs --no-resave-data nnNorm StartedAt: 2025-03-31 20:36:45 -0400 (Mon, 31 Mar 2025) EndedAt: 2025-03-31 20:38:22 -0400 (Mon, 31 Mar 2025) EllapsedTime: 97.2 seconds RetCode: 0 Status: OK PackageFile: nnNorm_2.70.0.tar.gz PackageFileSize: 1.59 MiB