Package: nnNorm Version: 2.70.0 Command: /Library/Frameworks/R.framework/Resources/bin/R CMD check --install=check:nnNorm.install-out.txt --library=/Library/Frameworks/R.framework/Resources/library --no-vignettes --timings nnNorm_2.70.0.tar.gz StartedAt: 2025-04-02 02:52:20 -0400 (Wed, 02 Apr 2025) EndedAt: 2025-04-02 02:53:57 -0400 (Wed, 02 Apr 2025) EllapsedTime: 97.1 seconds RetCode: 0 Status: OK CheckDir: nnNorm.Rcheck Warnings: 0