Package: nnNorm Version: 2.70.0 Command: rm -rf nnNorm.buildbin-libdir && mkdir nnNorm.buildbin-libdir && /Users/biocbuild/BBS/utils/build-universal.sh nnNorm_2.70.0.tar.gz /Library/Frameworks/R.framework/Resources/bin/R nnNorm.buildbin-libdir StartedAt: 2025-04-02 15:28:20 -0400 (Wed, 02 Apr 2025) EndedAt: 2025-04-02 15:28:24 -0400 (Wed, 02 Apr 2025) EllapsedTime: 4.5 seconds RetCode: 0 Status: OK PackageFile: nnNorm_2.70.0.tgz PackageFileSize: 195.4 KiB