Package: nipalsMCIA Version: 1.4.4 Command: /home/biocbuild/R/R/bin/R CMD INSTALL nipalsMCIA StartedAt: 2025-03-31 20:52:31 -0000 (Mon, 31 Mar 2025) EndedAt: 2025-03-31 20:53:03 -0000 (Mon, 31 Mar 2025) EllapsedTime: 32.3 seconds RetCode: 0 Status: OK