Package: nipalsMCIA Version: 1.4.4 Command: chmod a+r nipalsMCIA -R && F:\biocbuild\bbs-3.20-bioc\R\bin\R.exe CMD build --keep-empty-dirs --no-resave-data nipalsMCIA StartedAt: 2025-03-31 20:37:28 -0400 (Mon, 31 Mar 2025) EndedAt: 2025-03-31 20:52:35 -0400 (Mon, 31 Mar 2025) EllapsedTime: 907.0 seconds RetCode: 0 Status: OK PackageFile: nipalsMCIA_1.4.4.tar.gz PackageFileSize: 3.176 MiB