Package: nipalsMCIA Version: 1.4.4 Command: rm -rf nipalsMCIA.buildbin-libdir && mkdir nipalsMCIA.buildbin-libdir && F:\biocbuild\bbs-3.20-bioc\R\bin\R.exe CMD INSTALL --build --library=nipalsMCIA.buildbin-libdir nipalsMCIA_1.4.4.tar.gz StartedAt: 2025-04-01 08:45:49 -0400 (Tue, 01 Apr 2025) EndedAt: 2025-04-01 08:46:57 -0400 (Tue, 01 Apr 2025) EllapsedTime: 68.3 seconds RetCode: 0 Status: OK PackageFile: nipalsMCIA_1.4.4.zip PackageFileSize: 3.412 MiB