Package: nipalsMCIA Version: 1.4.4 Command: /home/biocbuild/bbs-3.20-bioc/R/bin/R CMD build --keep-empty-dirs --no-resave-data --md5 nipalsMCIA StartedAt: 2025-03-31 18:18:56 -0400 (Mon, 31 Mar 2025) EndedAt: 2025-03-31 18:22:25 -0400 (Mon, 31 Mar 2025) EllapsedTime: 209.4 seconds RetCode: 0 Status: OK PackageFile: nipalsMCIA_1.4.4.tar.gz PackageFileSize: 3.144 MiB