Package: nipalsMCIA Version: 1.4.4 Command: /Library/Frameworks/R.framework/Resources/bin/R CMD INSTALL nipalsMCIA StartedAt: 2025-03-31 16:07:19 -0400 (Mon, 31 Mar 2025) EndedAt: 2025-03-31 16:08:13 -0400 (Mon, 31 Mar 2025) EllapsedTime: 54.6 seconds RetCode: 0 Status: OK