Package: nipalsMCIA Version: 1.4.4 Command: /Library/Frameworks/R.framework/Resources/bin/R CMD INSTALL nipalsMCIA StartedAt: 2025-03-31 17:07:02 -0400 (Mon, 31 Mar 2025) EndedAt: 2025-03-31 17:07:31 -0400 (Mon, 31 Mar 2025) EllapsedTime: 28.8 seconds RetCode: 0 Status: OK