Package: nipalsMCIA Version: 1.4.4 Command: rm -rf nipalsMCIA.buildbin-libdir && mkdir nipalsMCIA.buildbin-libdir && /Users/biocbuild/BBS/utils/build-universal.sh nipalsMCIA_1.4.4.tar.gz /Library/Frameworks/R.framework/Resources/bin/R nipalsMCIA.buildbin-libdir StartedAt: 2025-04-02 15:28:14 -0400 (Wed, 02 Apr 2025) EndedAt: 2025-04-02 15:28:48 -0400 (Wed, 02 Apr 2025) EllapsedTime: 33.8 seconds RetCode: 0 Status: OK PackageFile: nipalsMCIA_1.4.4.tgz PackageFileSize: 4.015 MiB