Package: ngsReports Version: 2.8.0 Command: /Library/Frameworks/R.framework/Resources/bin/R CMD INSTALL ngsReports StartedAt: 2025-03-31 15:56:47 -0400 (Mon, 31 Mar 2025) EndedAt: 2025-03-31 15:57:29 -0400 (Mon, 31 Mar 2025) EllapsedTime: 42.5 seconds RetCode: 0 Status: OK