Package: ngsReports Version: 2.8.0 Command: /Library/Frameworks/R.framework/Resources/bin/R CMD check --install=check:ngsReports.install-out.txt --library=/Library/Frameworks/R.framework/Resources/library --no-vignettes --timings ngsReports_2.8.0.tar.gz StartedAt: 2025-04-01 06:29:33 -0400 (Tue, 01 Apr 2025) EndedAt: 2025-04-01 06:36:11 -0400 (Tue, 01 Apr 2025) EllapsedTime: 397.8 seconds RetCode: 0 Status: OK CheckDir: ngsReports.Rcheck Warnings: 0