Package: ngsReports Version: 2.8.0 Command: rm -rf ngsReports.buildbin-libdir && mkdir ngsReports.buildbin-libdir && /Users/biocbuild/BBS/utils/build-universal.sh ngsReports_2.8.0.tar.gz /Library/Frameworks/R.framework/Resources/bin/R ngsReports.buildbin-libdir StartedAt: 2025-04-02 15:28:08 -0400 (Wed, 02 Apr 2025) EndedAt: 2025-04-02 15:28:33 -0400 (Wed, 02 Apr 2025) EllapsedTime: 24.9 seconds RetCode: 0 Status: OK PackageFile: ngsReports_2.8.0.tgz PackageFileSize: 3.795 MiB