Package: netresponse Version: 1.66.0 Command: /home/biocbuild/R/R/bin/R CMD build --keep-empty-dirs --no-resave-data netresponse StartedAt: 2025-04-01 01:11:17 -0000 (Tue, 01 Apr 2025) EndedAt: 2025-04-01 01:11:34 -0000 (Tue, 01 Apr 2025) EllapsedTime: 17.0 seconds RetCode: 0 Status: OK PackageFile: netresponse_1.66.0.tar.gz PackageFileSize: 999.4 KiB