Package: netresponse Version: 1.66.0 Command: F:\biocbuild\bbs-3.20-bioc\R\bin\R.exe CMD INSTALL netresponse StartedAt: 2025-03-31 16:55:22 -0400 (Mon, 31 Mar 2025) EndedAt: 2025-03-31 16:56:37 -0400 (Mon, 31 Mar 2025) EllapsedTime: 74.4 seconds RetCode: 0 Status: OK