Package: netresponse Version: 1.66.0 Command: rm -rf netresponse.buildbin-libdir && mkdir netresponse.buildbin-libdir && F:\biocbuild\bbs-3.20-bioc\R\bin\R.exe CMD INSTALL --build --library=netresponse.buildbin-libdir netresponse_1.66.0.tar.gz StartedAt: 2025-04-01 08:45:31 -0400 (Tue, 01 Apr 2025) EndedAt: 2025-04-01 08:47:09 -0400 (Tue, 01 Apr 2025) EllapsedTime: 97.7 seconds RetCode: 0 Status: OK PackageFile: netresponse_1.66.0.zip PackageFileSize: 1.296 MiB