Package: netresponse Version: 1.66.0 Command: /Library/Frameworks/R.framework/Resources/bin/R CMD INSTALL netresponse StartedAt: 2025-03-31 17:56:19 -0400 (Mon, 31 Mar 2025) EndedAt: 2025-03-31 17:56:31 -0400 (Mon, 31 Mar 2025) EllapsedTime: 11.8 seconds RetCode: 0 Status: OK