Package: netresponse Version: 1.66.0 Command: /Library/Frameworks/R.framework/Resources/bin/R CMD build --keep-empty-dirs --no-resave-data netresponse StartedAt: 2025-04-01 04:19:20 -0400 (Tue, 01 Apr 2025) EndedAt: 2025-04-01 04:19:37 -0400 (Tue, 01 Apr 2025) EllapsedTime: 16.9 seconds RetCode: 0 Status: OK PackageFile: netresponse_1.66.0.tar.gz PackageFileSize: 975.5 KiB